BEGIN:VCALENDAR
VERSION:2.0
PRODID:-//Library Market//iCal Export//EN
BEGIN:VEVENT
SUMMARY:Personalized Sunglasses
UID:24788
DTSTAMP:20260421T035600Z
DTSTART:20260505T213000Z
DTEND:20260505T223000Z
LOCATION:The Manhasset Public Library, 30 Onderdonk Ave, Manhasset, NY 110
 30, United States
ROOM: Children&#039;s Room Multi-Purpose Space
DESCRIPTION:Create your own personalized pair of sunglasses using colorful
  beads! 
URL:https://manhasset.librarycalendar.com/event/sunglasses
END:VEVENT
END:VCALENDAR
