BEGIN:VCALENDAR
VERSION:2.0
PRODID:-//Library Market//iCal Export//EN
BEGIN:VEVENT
SUMMARY:Star Wars Craft
UID:28254
DTSTAMP:20260421T035600Z
DTSTART:20260504T201500Z
DTEND:20260504T210000Z
LOCATION:The Manhasset Public Library, 30 Onderdonk Ave, Manhasset, NY 110
 30, United States
ROOM: Children&#039;s Room Multi-Purpose Space
DESCRIPTION:Celebrate May the 4th Be With You by making cool Star Wars cra
 fts.Grades 2-5. Registration required, beginning 4/19.
URL:https://manhasset.librarycalendar.com/event/star-wars-craft-28254
END:VEVENT
END:VCALENDAR
